BEGIN:VCALENDAR
VERSION:2.0
PRODID:-//Soul Harvest Church - ECPv6.12.0//NONSGML v1.0//EN
CALSCALE:GREGORIAN
METHOD:PUBLISH
X-WR-CALNAME:Soul Harvest Church
X-ORIGINAL-URL:https://shc4me.com
X-WR-CALDESC:Events for Soul Harvest Church
REFRESH-INTERVAL;VALUE=DURATION:PT1H
X-Robots-Tag:noindex
X-PUBLISHED-TTL:PT1H
BEGIN:VTIMEZONE
TZID:UTC
BEGIN:STANDARD
TZOFFSETFROM:+0000
TZOFFSETTO:+0000
TZNAME:UTC
DTSTART:20260101T000000
END:STANDARD
END:VTIMEZONE
BEGIN:VEVENT
DTSTART;TZID=UTC:20260426T083000
DTEND;TZID=UTC:20260426T100000
DTSTAMP:20260424T093721
CREATED:20260304T182629Z
LAST-MODIFIED:20260318T182653Z
UID:4343-1777192200-1777197600@shc4me.com
SUMMARY:1st Service
DESCRIPTION:Our service time starts at 8:30 AM.  If you would like more information about our other service times please click here.
URL:https://shc4me.com/event/sunday-morning-1st-service-4/
LOCATION:Soul Harvest Church\, 14 Crosswinds Drive\, Cloverdale\, IN\, 46120\, United States
END:VEVENT
BEGIN:VEVENT
DTSTART;TZID=UTC:20260426T103000
DTEND;TZID=UTC:20260426T120000
DTSTAMP:20260424T093721
CREATED:20260304T183140Z
LAST-MODIFIED:20260318T182648Z
UID:4353-1777199400-1777204800@shc4me.com
SUMMARY:2nd Service
DESCRIPTION:Our service time starts at 10:30 AM.  If you would like more information about our other service times please click here.
URL:https://shc4me.com/event/sunday-morning-2nd-service-9/
LOCATION:Soul Harvest Church\, 14 Crosswinds Drive\, Cloverdale\, IN\, 46120\, United States
END:VEVENT
BEGIN:VEVENT
DTSTART;TZID=UTC:20260426T120000
DTEND;TZID=UTC:20260426T123000
DTSTAMP:20260424T093721
CREATED:20260304T185713Z
LAST-MODIFIED:20260304T190040Z
UID:4384-1777204800-1777206600@shc4me.com
SUMMARY:Meet the Pastor
DESCRIPTION:For anyone newer to the church you will be able to\, meet our Pastor and his wife\, get to know them more on a personal level right after Sunday Morning 2nd Service.
URL:https://shc4me.com/event/meet-the-pastor-18/
LOCATION:Soul Harvest Church\, 14 Crosswinds Drive\, Cloverdale\, IN\, 46120\, United States
END:VEVENT
BEGIN:VEVENT
DTSTART;TZID=UTC:20260426T120000
DTEND;TZID=UTC:20260426T140000
DTSTAMP:20260424T093721
CREATED:20260304T190257Z
LAST-MODIFIED:20260304T190257Z
UID:4386-1777204800-1777212000@shc4me.com
SUMMARY:Youth Camp Fundraiser Lasagna & Auction Dinner
DESCRIPTION:This auction will have a list of items for bidding. The proceeds will go to the 2026 youth camp for food\, lodging\, and other financial items for that event. \nSo come out and help the SHC teens.
URL:https://shc4me.com/event/youth-camp-fundraiser-lasagna-auction-dinner/
LOCATION:Soul Harvest Church\, 14 Crosswinds Drive\, Cloverdale\, IN\, 46120\, United States
END:VEVENT
BEGIN:VEVENT
DTSTART;TZID=UTC:20260429T190000
DTEND;TZID=UTC:20260429T200000
DTSTAMP:20260424T093721
CREATED:20260304T185150Z
LAST-MODIFIED:20260318T182633Z
UID:4375-1777489200-1777492800@shc4me.com
SUMMARY:Midweek Service
DESCRIPTION:Our service time starts at 7:00 PM.  If you would like more information about our other service times please click here.
URL:https://shc4me.com/event/wednesday-night-service-89/
LOCATION:Soul Harvest Church\, 14 Crosswinds Drive\, Cloverdale\, IN\, 46120\, United States
END:VEVENT
END:VCALENDAR