BEGIN:VCALENDAR
VERSION:2.0
PRODID:-//Soul Harvest Church - ECPv6.12.0//NONSGML v1.0//EN
CALSCALE:GREGORIAN
METHOD:PUBLISH
X-WR-CALNAME:Soul Harvest Church
X-ORIGINAL-URL:https://shc4me.com
X-WR-CALDESC:Events for Soul Harvest Church
REFRESH-INTERVAL;VALUE=DURATION:PT1H
X-Robots-Tag:noindex
X-PUBLISHED-TTL:PT1H
BEGIN:VTIMEZONE
TZID:UTC
BEGIN:STANDARD
TZOFFSETFROM:+0000
TZOFFSETTO:+0000
TZNAME:UTC
DTSTART:20260101T000000
END:STANDARD
END:VTIMEZONE
BEGIN:VTIMEZONE
TZID:America/Halifax
BEGIN:DAYLIGHT
TZOFFSETFROM:-0400
TZOFFSETTO:-0300
TZNAME:ADT
DTSTART:20260308T060000
END:DAYLIGHT
BEGIN:STANDARD
TZOFFSETFROM:-0300
TZOFFSETTO:-0400
TZNAME:AST
DTSTART:20261101T050000
END:STANDARD
END:VTIMEZONE
BEGIN:VEVENT
DTSTART;TZID=UTC:20260819T190000
DTEND;TZID=UTC:20260819T200000
DTSTAMP:20260426T002719
CREATED:20260304T210930Z
LAST-MODIFIED:20260318T182007Z
UID:4615-1787166000-1787169600@shc4me.com
SUMMARY:Midweek Service
DESCRIPTION:Our service time starts at 7:00 PM.  If you would like more information about our other service times please click here.
URL:https://shc4me.com/event/wednesday-night-service-113/
LOCATION:Soul Harvest Church\, 14 Crosswinds Drive\, Cloverdale\, IN\, 46120\, United States
END:VEVENT
BEGIN:VEVENT
DTSTART;TZID=America/Halifax:20260819T190000
DTEND;TZID=America/Halifax:20260819T200000
DTSTAMP:20260426T002719
CREATED:20260402T192817Z
LAST-MODIFIED:20260402T192817Z
UID:4992-1787166000-1787169600@shc4me.com
SUMMARY:Small Group
DESCRIPTION:We will have the normal Wednesday Service if you don’t want to go to the specific topic in these small groups.  More information coming soon on the topics.
URL:https://shc4me.com/event/small-group/
LOCATION:Soul Harvest Church\, 14 Crosswinds Drive\, Cloverdale\, IN\, 46120\, United States
END:VEVENT
END:VCALENDAR