BEGIN:VCALENDAR
VERSION:2.0
PRODID:-//Soul Harvest Church - ECPv6.12.0//NONSGML v1.0//EN
CALSCALE:GREGORIAN
METHOD:PUBLISH
X-ORIGINAL-URL:https://shc4me.com
X-WR-CALDESC:Events for Soul Harvest Church
REFRESH-INTERVAL;VALUE=DURATION:PT1H
X-Robots-Tag:noindex
X-PUBLISHED-TTL:PT1H
BEGIN:VTIMEZONE
TZID:UTC
BEGIN:STANDARD
TZOFFSETFROM:+0000
TZOFFSETTO:+0000
TZNAME:UTC
DTSTART:20260101T000000
END:STANDARD
END:VTIMEZONE
BEGIN:VEVENT
DTSTART;TZID=UTC:20260726T083000
DTEND;TZID=UTC:20260726T100000
DTSTAMP:20260425T224644
CREATED:20260304T205220Z
LAST-MODIFIED:20260318T182132Z
UID:4564-1785054600-1785060000@shc4me.com
SUMMARY:1st Service
DESCRIPTION:Our service time starts at 8:30 AM.  If you would like more information about our other service times please click here.
URL:https://shc4me.com/event/sunday-morning-1st-service-24/
LOCATION:Soul Harvest Church\, 14 Crosswinds Drive\, Cloverdale\, IN\, 46120\, United States
END:VEVENT
BEGIN:VEVENT
DTSTART;TZID=UTC:20260726T103000
DTEND;TZID=UTC:20260726T120000
DTSTAMP:20260425T224644
CREATED:20260304T205420Z
LAST-MODIFIED:20260318T182126Z
UID:4572-1785061800-1785067200@shc4me.com
SUMMARY:2nd Service
DESCRIPTION:Our service time starts at 10:30 AM.  If you would like more information about our other service times please click here.
URL:https://shc4me.com/event/sunday-morning-2nd-service-29/
LOCATION:Soul Harvest Church\, 14 Crosswinds Drive\, Cloverdale\, IN\, 46120\, United States
END:VEVENT
BEGIN:VEVENT
DTSTART;TZID=UTC:20260726T120000
DTEND;TZID=UTC:20260726T123000
DTSTAMP:20260425T224644
CREATED:20260304T210146Z
LAST-MODIFIED:20260304T210146Z
UID:4591-1785067200-1785069000@shc4me.com
SUMMARY:Meet the Pastor
DESCRIPTION:For anyone newer to the church you will be able to\, meet our Pastor and his wife\, get to know them more on a personal level right after Sunday Morning 2nd Service.
URL:https://shc4me.com/event/meet-the-pastor-22/
LOCATION:Soul Harvest Church\, 14 Crosswinds Drive\, Cloverdale\, IN\, 46120\, United States
END:VEVENT
END:VCALENDAR