BEGIN:VCALENDAR
VERSION:2.0
PRODID:-//Soul Harvest Church - ECPv6.12.0//NONSGML v1.0//EN
CALSCALE:GREGORIAN
METHOD:PUBLISH
X-WR-CALNAME:Soul Harvest Church
X-ORIGINAL-URL:https://shc4me.com
X-WR-CALDESC:Events for Soul Harvest Church
REFRESH-INTERVAL;VALUE=DURATION:PT1H
X-Robots-Tag:noindex
X-PUBLISHED-TTL:PT1H
BEGIN:VTIMEZONE
TZID:UTC
BEGIN:STANDARD
TZOFFSETFROM:+0000
TZOFFSETTO:+0000
TZNAME:UTC
DTSTART:20260101T000000
END:STANDARD
END:VTIMEZONE
BEGIN:VTIMEZONE
TZID:America/Halifax
BEGIN:DAYLIGHT
TZOFFSETFROM:-0400
TZOFFSETTO:-0300
TZNAME:ADT
DTSTART:20260308T060000
END:DAYLIGHT
BEGIN:STANDARD
TZOFFSETFROM:-0300
TZOFFSETTO:-0400
TZNAME:AST
DTSTART:20261101T050000
END:STANDARD
END:VTIMEZONE
BEGIN:VEVENT
DTSTART;TZID=UTC:20260628T083000
DTEND;TZID=UTC:20260628T100000
DTSTAMP:20260425T205847
CREATED:20260304T193753Z
LAST-MODIFIED:20260318T182311Z
UID:4432-1782635400-1782640800@shc4me.com
SUMMARY:1st Service
DESCRIPTION:Our service time starts at 8:30 AM.  If you would like more information about our other service times please click here.
URL:https://shc4me.com/event/sunday-morning-1st-service-12/
LOCATION:Soul Harvest Church\, 14 Crosswinds Drive\, Cloverdale\, IN\, 46120\, United States
END:VEVENT
BEGIN:VEVENT
DTSTART;TZID=UTC:20260628T103000
DTEND;TZID=UTC:20260628T120000
DTSTAMP:20260425T205847
CREATED:20260304T194005Z
LAST-MODIFIED:20260318T182304Z
UID:4441-1782642600-1782648000@shc4me.com
SUMMARY:2nd Service
DESCRIPTION:Our service time starts at 10:30 AM.  If you would like more information about our other service times please click here.
URL:https://shc4me.com/event/sunday-morning-2nd-service-18/
LOCATION:Soul Harvest Church\, 14 Crosswinds Drive\, Cloverdale\, IN\, 46120\, United States
END:VEVENT
BEGIN:VEVENT
DTSTART;TZID=UTC:20260628T120000
DTEND;TZID=UTC:20260628T123000
DTSTAMP:20260425T205847
CREATED:20260304T194358Z
LAST-MODIFIED:20260304T194358Z
UID:4454-1782648000-1782649800@shc4me.com
SUMMARY:Meet the Pastor
DESCRIPTION:For anyone newer to the church you will be able to\, meet our Pastor and his wife\, get to know them more on a personal level right after Sunday Morning 2nd Service.
URL:https://shc4me.com/event/meet-the-pastor-19/
LOCATION:Soul Harvest Church\, 14 Crosswinds Drive\, Cloverdale\, IN\, 46120\, United States
END:VEVENT
BEGIN:VEVENT
DTSTART;TZID=America/Halifax:20260628T120000
DTEND;TZID=America/Halifax:20260702T170000
DTSTAMP:20260425T205847
CREATED:20260304T184213Z
LAST-MODIFIED:20260304T184515Z
UID:4366-1782648000-1783011600@shc4me.com
SUMMARY:Teen Camp
DESCRIPTION:Transformed Youth Camp registration is open! June 28-July 2\, open to current 6th graders through current 12th graders. Registration and $75.00 deposit is due by April 6\, 2026. Please click here to register.
URL:https://shc4me.com/event/teen-camp/
LOCATION:Cross Oak Camp and Retreat  Center\, 272 Jack Oak Point Rd\, St. Marys\, OH\, 45885\, United States
END:VEVENT
END:VCALENDAR