BEGIN:VCALENDAR
VERSION:2.0
PRODID:-//Soul Harvest Church - ECPv6.12.0//NONSGML v1.0//EN
CALSCALE:GREGORIAN
METHOD:PUBLISH
X-WR-CALNAME:Soul Harvest Church
X-ORIGINAL-URL:https://shc4me.com
X-WR-CALDESC:Events for Soul Harvest Church
REFRESH-INTERVAL;VALUE=DURATION:PT1H
X-Robots-Tag:noindex
X-PUBLISHED-TTL:PT1H
BEGIN:VTIMEZONE
TZID:UTC
BEGIN:STANDARD
TZOFFSETFROM:+0000
TZOFFSETTO:+0000
TZNAME:UTC
DTSTART:20260101T000000
END:STANDARD
END:VTIMEZONE
BEGIN:VEVENT
DTSTART;TZID=UTC:20260621T083000
DTEND;TZID=UTC:20260621T100000
DTSTAMP:20260425T205937
CREATED:20260304T193726Z
LAST-MODIFIED:20260318T182332Z
UID:4431-1782030600-1782036000@shc4me.com
SUMMARY:1st Service
DESCRIPTION:Our service time starts at 8:30 AM.  If you would like more information about our other service times please click here.
URL:https://shc4me.com/event/sunday-morning-1st-service-11/
LOCATION:Soul Harvest Church\, 14 Crosswinds Drive\, Cloverdale\, IN\, 46120\, United States
END:VEVENT
BEGIN:VEVENT
DTSTART;TZID=UTC:20260621T103000
DTEND;TZID=UTC:20260621T120000
DTSTAMP:20260425T205937
CREATED:20260304T193936Z
LAST-MODIFIED:20260318T182326Z
UID:4440-1782037800-1782043200@shc4me.com
SUMMARY:2nd Service
DESCRIPTION:Our service time starts at 10:30 AM.  If you would like more information about our other service times please click here.
URL:https://shc4me.com/event/sunday-morning-2nd-service-17/
LOCATION:Soul Harvest Church\, 14 Crosswinds Drive\, Cloverdale\, IN\, 46120\, United States
END:VEVENT
END:VCALENDAR