BEGIN:VCALENDAR
VERSION:2.0
PRODID:-//Soul Harvest Church - ECPv6.12.0//NONSGML v1.0//EN
CALSCALE:GREGORIAN
METHOD:PUBLISH
X-ORIGINAL-URL:https://shc4me.com
X-WR-CALDESC:Events for Soul Harvest Church
REFRESH-INTERVAL;VALUE=DURATION:PT1H
X-Robots-Tag:noindex
X-PUBLISHED-TTL:PT1H
BEGIN:VTIMEZONE
TZID:UTC
BEGIN:STANDARD
TZOFFSETFROM:+0000
TZOFFSETTO:+0000
TZNAME:UTC
DTSTART:20260101T000000
END:STANDARD
END:VTIMEZONE
BEGIN:VEVENT
DTSTART;TZID=UTC:20260614T083000
DTEND;TZID=UTC:20260614T100000
DTSTAMP:20260425T210224
CREATED:20260304T193651Z
LAST-MODIFIED:20260318T182356Z
UID:4430-1781425800-1781431200@shc4me.com
SUMMARY:1st Service
DESCRIPTION:Our service time starts at 8:30 AM.  If you would like more information about our other service times please click here.
URL:https://shc4me.com/event/sunday-morning-1st-service-copy-copy/
LOCATION:Soul Harvest Church\, 14 Crosswinds Drive\, Cloverdale\, IN\, 46120\, United States
END:VEVENT
BEGIN:VEVENT
DTSTART;TZID=UTC:20260614T103000
DTEND;TZID=UTC:20260614T120000
DTSTAMP:20260425T210224
CREATED:20260304T194950Z
LAST-MODIFIED:20260318T182349Z
UID:4463-1781433000-1781438400@shc4me.com
SUMMARY:Baptism & 2nd Service
DESCRIPTION:Our service time starts at 10:30 AM.  If you would like more information about our other service times please click here. \nIf you would like to be baptized please sign up here. \nIf you have and questions about baptism or why please click here.
URL:https://shc4me.com/event/baptism-sunday-morning-2nd-service/
LOCATION:Soul Harvest Church\, 14 Crosswinds Drive\, Cloverdale\, IN\, 46120\, United States
END:VEVENT
BEGIN:VEVENT
DTSTART;TZID=UTC:20260614T180000
DTEND;TZID=UTC:20260614T201500
DTSTAMP:20260425T210224
CREATED:20260304T205850Z
LAST-MODIFIED:20260305T164701Z
UID:4587-1781460000-1781468100@shc4me.com
SUMMARY:Spiritual Leadership 6th Class 2026
DESCRIPTION:Spiritual Leadership is a 12-month class that takes place on the third Sunday of each month from 6:00-8:15 PM. \nPurpose\n1. 300-400 Level Spiritual Maturity\n2. Leadership Skills\n3. Ministry Skills\n4. Communication Skills\n5. Self-Discipline\n6. Knowledge of spiritual gifts & purpose in life \nFormat\n1. Book Discussion\n2. Video Curriculum\n3. Teaching & Discussion\n4. Role Plays & Group Interaction\n5. Homework-Reading one book per month \nClass Goals\n1. Not trying to fill a position or give titles\n2. Develop your potential (Eph. 4:11)\n3. Have a positive effect on your family\, career\, and God-given purpose & ministry (this material applies to all)\n4. Build a culture and understanding of leadership within the church (Jesus focused most of His time on 12 people)\n5. Prepare the church for the next wave of growth (Luke 12:48 For everyone to whom much is given\, from him much will be required; and to whom much has been committed\, of him they will ask the more.)\n6. 75% of those who start this course to successfully finish\n7. Raise up leaders and capable ministry helpers from this class\n8.To train to share their faith and pray for others effectively
URL:https://shc4me.com/event/spiritual-leadership-6th-class-2026/
LOCATION:Soul Harvest Church\, 14 Crosswinds Drive\, Cloverdale\, IN\, 46120\, United States
END:VEVENT
END:VCALENDAR