BEGIN:VCALENDAR
VERSION:2.0
PRODID:-//Soul Harvest Church - ECPv6.12.0//NONSGML v1.0//EN
CALSCALE:GREGORIAN
METHOD:PUBLISH
X-WR-CALNAME:Soul Harvest Church
X-ORIGINAL-URL:https://shc4me.com
X-WR-CALDESC:Events for Soul Harvest Church
REFRESH-INTERVAL;VALUE=DURATION:PT1H
X-Robots-Tag:noindex
X-PUBLISHED-TTL:PT1H
BEGIN:VTIMEZONE
TZID:UTC
BEGIN:STANDARD
TZOFFSETFROM:+0000
TZOFFSETTO:+0000
TZNAME:UTC
DTSTART:20260101T000000
END:STANDARD
END:VTIMEZONE
BEGIN:VEVENT
DTSTART;TZID=UTC:20260608T120000
DTEND;TZID=UTC:20260611T120000
DTSTAMP:20260425T205751
CREATED:20260304T194626Z
LAST-MODIFIED:20260304T194626Z
UID:4457-1780920000-1781179200@shc4me.com
SUMMARY:Vacation Bible School
DESCRIPTION:More information coming soon.
URL:https://shc4me.com/event/vacation-bible-school-2/
LOCATION:Soul Harvest Church\, 14 Crosswinds Drive\, Cloverdale\, IN\, 46120\, United States
END:VEVENT
END:VCALENDAR